BEGIN:VCALENDAR
VERSION:2.0
PRODID:-//TSV Bardowick - ECPv6.15.17//NONSGML v1.0//EN
CALSCALE:GREGORIAN
METHOD:PUBLISH
X-WR-CALNAME:TSV Bardowick
X-ORIGINAL-URL:https://tsv-bardowick.de
X-WR-CALDESC:Veranstaltungen für TSV Bardowick
REFRESH-INTERVAL;VALUE=DURATION:PT1H
X-Robots-Tag:noindex
X-PUBLISHED-TTL:PT1H
BEGIN:VTIMEZONE
TZID:Europe/Berlin
BEGIN:DAYLIGHT
TZOFFSETFROM:+0100
TZOFFSETTO:+0200
TZNAME:CEST
DTSTART:20250330T010000
END:DAYLIGHT
BEGIN:STANDARD
TZOFFSETFROM:+0200
TZOFFSETTO:+0100
TZNAME:CET
DTSTART:20251026T010000
END:STANDARD
BEGIN:DAYLIGHT
TZOFFSETFROM:+0100
TZOFFSETTO:+0200
TZNAME:CEST
DTSTART:20260329T010000
END:DAYLIGHT
BEGIN:STANDARD
TZOFFSETFROM:+0200
TZOFFSETTO:+0100
TZNAME:CET
DTSTART:20261025T010000
END:STANDARD
BEGIN:DAYLIGHT
TZOFFSETFROM:+0100
TZOFFSETTO:+0200
TZNAME:CEST
DTSTART:20270328T010000
END:DAYLIGHT
BEGIN:STANDARD
TZOFFSETFROM:+0200
TZOFFSETTO:+0100
TZNAME:CET
DTSTART:20271031T010000
END:STANDARD
END:VTIMEZONE
BEGIN:VEVENT
DTSTART;TZID=Europe/Berlin:20260827T100000
DTEND;TZID=Europe/Berlin:20260827T170000
DTSTAMP:20260424T020726
CREATED:20260415T141528Z
LAST-MODIFIED:20260423T234702Z
UID:1876-1787824800-1787850000@tsv-bardowick.de
SUMMARY:Vereinsheim/Jugendplatz Dennis B.
DESCRIPTION:Abstimmung über WhatsApp und Telefon mit Jürgen und Ute
URL:https://tsv-bardowick.de/tsv-kalender/vereinsheim-jugendplatz-dennis-b/
CATEGORIES:Vereinsheim-Reservierungen
END:VEVENT
END:VCALENDAR