BEGIN:VCALENDAR
VERSION:2.0
PRODID:-//TSV Bardowick - ECPv6.15.17//NONSGML v1.0//EN
CALSCALE:GREGORIAN
METHOD:PUBLISH
X-ORIGINAL-URL:https://tsv-bardowick.de
X-WR-CALDESC:Veranstaltungen für TSV Bardowick
REFRESH-INTERVAL;VALUE=DURATION:PT1H
X-Robots-Tag:noindex
X-PUBLISHED-TTL:PT1H
BEGIN:VTIMEZONE
TZID:Europe/Berlin
BEGIN:DAYLIGHT
TZOFFSETFROM:+0100
TZOFFSETTO:+0200
TZNAME:CEST
DTSTART:20250330T010000
END:DAYLIGHT
BEGIN:STANDARD
TZOFFSETFROM:+0200
TZOFFSETTO:+0100
TZNAME:CET
DTSTART:20251026T010000
END:STANDARD
BEGIN:DAYLIGHT
TZOFFSETFROM:+0100
TZOFFSETTO:+0200
TZNAME:CEST
DTSTART:20260329T010000
END:DAYLIGHT
BEGIN:STANDARD
TZOFFSETFROM:+0200
TZOFFSETTO:+0100
TZNAME:CET
DTSTART:20261025T010000
END:STANDARD
BEGIN:DAYLIGHT
TZOFFSETFROM:+0100
TZOFFSETTO:+0200
TZNAME:CEST
DTSTART:20270328T010000
END:DAYLIGHT
BEGIN:STANDARD
TZOFFSETFROM:+0200
TZOFFSETTO:+0100
TZNAME:CET
DTSTART:20271031T010000
END:STANDARD
BEGIN:DAYLIGHT
TZOFFSETFROM:+0100
TZOFFSETTO:+0200
TZNAME:CEST
DTSTART:20280326T010000
END:DAYLIGHT
BEGIN:STANDARD
TZOFFSETFROM:+0200
TZOFFSETTO:+0100
TZNAME:CET
DTSTART:20281029T010000
END:STANDARD
BEGIN:DAYLIGHT
TZOFFSETFROM:+0100
TZOFFSETTO:+0200
TZNAME:CEST
DTSTART:20290325T010000
END:DAYLIGHT
BEGIN:STANDARD
TZOFFSETFROM:+0200
TZOFFSETTO:+0100
TZNAME:CET
DTSTART:20291028T010000
END:STANDARD
END:VTIMEZONE
BEGIN:VEVENT
DTSTART;TZID=Europe/Berlin:20261028T140000
DTEND;TZID=Europe/Berlin:20261028T183000
DTSTAMP:20260424T014215
CREATED:20260326T185251Z
LAST-MODIFIED:20260423T224630Z
UID:1393-1793196000-1793212200@tsv-bardowick.de
SUMMARY:Senioren Spielenachmittag
DESCRIPTION:An jedem letzten Mittwoch eines Monats treffen sich die Senioren des TSV Bardowick zum gemütlichen Beisammensein\, zum Spielen\, zum Kaffeetrinken\, und\, und\, und…
URL:https://tsv-bardowick.de/tsv-kalender/senioren-spielenachmittag-7/
LOCATION:TSV Bardowick Sportplatz\, Brietlinger Weg 1\, 21357 Bardowick\, Deutschland
CATEGORIES:Vereinsheim-Reservierungen
END:VEVENT
BEGIN:VEVENT
DTSTART;TZID=Europe/Berlin:20261125T140000
DTEND;TZID=Europe/Berlin:20261125T183000
DTSTAMP:20260424T014215
CREATED:20260326T185252Z
LAST-MODIFIED:20260423T224630Z
UID:1394-1795615200-1795631400@tsv-bardowick.de
SUMMARY:Senioren Spielenachmittag
DESCRIPTION:An jedem letzten Mittwoch eines Monats treffen sich die Senioren des TSV Bardowick zum gemütlichen Beisammensein\, zum Spielen\, zum Kaffeetrinken\, und\, und\, und…
URL:https://tsv-bardowick.de/tsv-kalender/senioren-spielenachmittag-8/
LOCATION:TSV Bardowick Sportplatz\, Brietlinger Weg 1\, 21357 Bardowick\, Deutschland
CATEGORIES:Vereinsheim-Reservierungen
END:VEVENT
BEGIN:VEVENT
DTSTART;TZID=Europe/Berlin:20261230T140000
DTEND;TZID=Europe/Berlin:20261230T183000
DTSTAMP:20260424T014215
CREATED:20260326T185252Z
LAST-MODIFIED:20260423T224630Z
UID:1395-1798639200-1798655400@tsv-bardowick.de
SUMMARY:Senioren Spielenachmittag
DESCRIPTION:An jedem letzten Mittwoch eines Monats treffen sich die Senioren des TSV Bardowick zum gemütlichen Beisammensein\, zum Spielen\, zum Kaffeetrinken\, und\, und\, und…
URL:https://tsv-bardowick.de/tsv-kalender/senioren-spielenachmittag-9/
LOCATION:TSV Bardowick Sportplatz\, Brietlinger Weg 1\, 21357 Bardowick\, Deutschland
CATEGORIES:Vereinsheim-Reservierungen
END:VEVENT
BEGIN:VEVENT
DTSTART;TZID=Europe/Berlin:20270127T140000
DTEND;TZID=Europe/Berlin:20270127T183000
DTSTAMP:20260424T014215
CREATED:20260326T185252Z
LAST-MODIFIED:20260423T224630Z
UID:1396-1801058400-1801074600@tsv-bardowick.de
SUMMARY:Senioren Spielenachmittag
DESCRIPTION:An jedem letzten Mittwoch eines Monats treffen sich die Senioren des TSV Bardowick zum gemütlichen Beisammensein\, zum Spielen\, zum Kaffeetrinken\, und\, und\, und…
URL:https://tsv-bardowick.de/tsv-kalender/senioren-spielenachmittag-10/
LOCATION:TSV Bardowick Sportplatz\, Brietlinger Weg 1\, 21357 Bardowick\, Deutschland
CATEGORIES:Vereinsheim-Reservierungen
END:VEVENT
BEGIN:VEVENT
DTSTART;TZID=Europe/Berlin:20270205T160000
DTEND;TZID=Europe/Berlin:20270207T130000
DTSTAMP:20260424T014215
CREATED:20260407T205945Z
LAST-MODIFIED:20260423T224630Z
UID:1789-1801843200-1802005200@tsv-bardowick.de
SUMMARY:Vereinsheim Birgit B.
DESCRIPTION:
URL:https://tsv-bardowick.de/tsv-kalender/vereinsheim-birgit-b/
CATEGORIES:Vereinsheim-Reservierungen
END:VEVENT
BEGIN:VEVENT
DTSTART;TZID=Europe/Berlin:20270224T140000
DTEND;TZID=Europe/Berlin:20270224T183000
DTSTAMP:20260424T014215
CREATED:20260326T185252Z
LAST-MODIFIED:20260423T224630Z
UID:1397-1803477600-1803493800@tsv-bardowick.de
SUMMARY:Senioren Spielenachmittag
DESCRIPTION:An jedem letzten Mittwoch eines Monats treffen sich die Senioren des TSV Bardowick zum gemütlichen Beisammensein\, zum Spielen\, zum Kaffeetrinken\, und\, und\, und…
URL:https://tsv-bardowick.de/tsv-kalender/senioren-spielenachmittag-11/
LOCATION:TSV Bardowick Sportplatz\, Brietlinger Weg 1\, 21357 Bardowick\, Deutschland
CATEGORIES:Vereinsheim-Reservierungen
END:VEVENT
BEGIN:VEVENT
DTSTART;TZID=Europe/Berlin:20270331T140000
DTEND;TZID=Europe/Berlin:20270331T183000
DTSTAMP:20260424T014215
CREATED:20260326T185252Z
LAST-MODIFIED:20260423T224630Z
UID:1398-1806501600-1806517800@tsv-bardowick.de
SUMMARY:Senioren Spielenachmittag
DESCRIPTION:An jedem letzten Mittwoch eines Monats treffen sich die Senioren des TSV Bardowick zum gemütlichen Beisammensein\, zum Spielen\, zum Kaffeetrinken\, und\, und\, und…
URL:https://tsv-bardowick.de/tsv-kalender/senioren-spielenachmittag-12/
LOCATION:TSV Bardowick Sportplatz\, Brietlinger Weg 1\, 21357 Bardowick\, Deutschland
CATEGORIES:Vereinsheim-Reservierungen
END:VEVENT
BEGIN:VEVENT
DTSTART;TZID=Europe/Berlin:20270428T140000
DTEND;TZID=Europe/Berlin:20270428T183000
DTSTAMP:20260424T014215
CREATED:20260326T185252Z
LAST-MODIFIED:20260423T224631Z
UID:1399-1808920800-1808937000@tsv-bardowick.de
SUMMARY:Senioren Spielenachmittag
DESCRIPTION:An jedem letzten Mittwoch eines Monats treffen sich die Senioren des TSV Bardowick zum gemütlichen Beisammensein\, zum Spielen\, zum Kaffeetrinken\, und\, und\, und…
URL:https://tsv-bardowick.de/tsv-kalender/senioren-spielenachmittag-13/
LOCATION:TSV Bardowick Sportplatz\, Brietlinger Weg 1\, 21357 Bardowick\, Deutschland
CATEGORIES:Vereinsheim-Reservierungen
END:VEVENT
BEGIN:VEVENT
DTSTART;TZID=Europe/Berlin:20270526T140000
DTEND;TZID=Europe/Berlin:20270526T183000
DTSTAMP:20260424T014215
CREATED:20260326T185253Z
LAST-MODIFIED:20260423T224631Z
UID:1400-1811340000-1811356200@tsv-bardowick.de
SUMMARY:Senioren Spielenachmittag
DESCRIPTION:An jedem letzten Mittwoch eines Monats treffen sich die Senioren des TSV Bardowick zum gemütlichen Beisammensein\, zum Spielen\, zum Kaffeetrinken\, und\, und\, und…
URL:https://tsv-bardowick.de/tsv-kalender/senioren-spielenachmittag-14/
LOCATION:TSV Bardowick Sportplatz\, Brietlinger Weg 1\, 21357 Bardowick\, Deutschland
CATEGORIES:Vereinsheim-Reservierungen
END:VEVENT
BEGIN:VEVENT
DTSTART;TZID=Europe/Berlin:20270630T140000
DTEND;TZID=Europe/Berlin:20270630T183000
DTSTAMP:20260424T014215
CREATED:20260326T185253Z
LAST-MODIFIED:20260423T224631Z
UID:1401-1814364000-1814380200@tsv-bardowick.de
SUMMARY:Senioren Spielenachmittag
DESCRIPTION:An jedem letzten Mittwoch eines Monats treffen sich die Senioren des TSV Bardowick zum gemütlichen Beisammensein\, zum Spielen\, zum Kaffeetrinken\, und\, und\, und…
URL:https://tsv-bardowick.de/tsv-kalender/senioren-spielenachmittag-15/
LOCATION:TSV Bardowick Sportplatz\, Brietlinger Weg 1\, 21357 Bardowick\, Deutschland
CATEGORIES:Vereinsheim-Reservierungen
END:VEVENT
BEGIN:VEVENT
DTSTART;TZID=Europe/Berlin:20270728T140000
DTEND;TZID=Europe/Berlin:20270728T183000
DTSTAMP:20260424T014215
CREATED:20260326T185253Z
LAST-MODIFIED:20260423T224631Z
UID:1402-1816783200-1816799400@tsv-bardowick.de
SUMMARY:Senioren Spielenachmittag
DESCRIPTION:An jedem letzten Mittwoch eines Monats treffen sich die Senioren des TSV Bardowick zum gemütlichen Beisammensein\, zum Spielen\, zum Kaffeetrinken\, und\, und\, und…
URL:https://tsv-bardowick.de/tsv-kalender/senioren-spielenachmittag-16/
LOCATION:TSV Bardowick Sportplatz\, Brietlinger Weg 1\, 21357 Bardowick\, Deutschland
CATEGORIES:Vereinsheim-Reservierungen
END:VEVENT
BEGIN:VEVENT
DTSTART;TZID=Europe/Berlin:20270825T140000
DTEND;TZID=Europe/Berlin:20270825T183000
DTSTAMP:20260424T014215
CREATED:20260326T185253Z
LAST-MODIFIED:20260423T224631Z
UID:1403-1819202400-1819218600@tsv-bardowick.de
SUMMARY:Senioren Spielenachmittag
DESCRIPTION:An jedem letzten Mittwoch eines Monats treffen sich die Senioren des TSV Bardowick zum gemütlichen Beisammensein\, zum Spielen\, zum Kaffeetrinken\, und\, und\, und…
URL:https://tsv-bardowick.de/tsv-kalender/senioren-spielenachmittag-17/
LOCATION:TSV Bardowick Sportplatz\, Brietlinger Weg 1\, 21357 Bardowick\, Deutschland
CATEGORIES:Vereinsheim-Reservierungen
END:VEVENT
BEGIN:VEVENT
DTSTART;TZID=Europe/Berlin:20270929T140000
DTEND;TZID=Europe/Berlin:20270929T183000
DTSTAMP:20260424T014215
CREATED:20260326T185253Z
LAST-MODIFIED:20260423T224631Z
UID:1404-1822226400-1822242600@tsv-bardowick.de
SUMMARY:Senioren Spielenachmittag
DESCRIPTION:An jedem letzten Mittwoch eines Monats treffen sich die Senioren des TSV Bardowick zum gemütlichen Beisammensein\, zum Spielen\, zum Kaffeetrinken\, und\, und\, und…
URL:https://tsv-bardowick.de/tsv-kalender/senioren-spielenachmittag-18/
LOCATION:TSV Bardowick Sportplatz\, Brietlinger Weg 1\, 21357 Bardowick\, Deutschland
CATEGORIES:Vereinsheim-Reservierungen
END:VEVENT
BEGIN:VEVENT
DTSTART;TZID=Europe/Berlin:20271027T140000
DTEND;TZID=Europe/Berlin:20271027T183000
DTSTAMP:20260424T014215
CREATED:20260326T185253Z
LAST-MODIFIED:20260423T224631Z
UID:1405-1824645600-1824661800@tsv-bardowick.de
SUMMARY:Senioren Spielenachmittag
DESCRIPTION:An jedem letzten Mittwoch eines Monats treffen sich die Senioren des TSV Bardowick zum gemütlichen Beisammensein\, zum Spielen\, zum Kaffeetrinken\, und\, und\, und…
URL:https://tsv-bardowick.de/tsv-kalender/senioren-spielenachmittag-19/
LOCATION:TSV Bardowick Sportplatz\, Brietlinger Weg 1\, 21357 Bardowick\, Deutschland
CATEGORIES:Vereinsheim-Reservierungen
END:VEVENT
BEGIN:VEVENT
DTSTART;TZID=Europe/Berlin:20271124T140000
DTEND;TZID=Europe/Berlin:20271124T183000
DTSTAMP:20260424T014215
CREATED:20260326T185253Z
LAST-MODIFIED:20260423T224631Z
UID:1406-1827064800-1827081000@tsv-bardowick.de
SUMMARY:Senioren Spielenachmittag
DESCRIPTION:An jedem letzten Mittwoch eines Monats treffen sich die Senioren des TSV Bardowick zum gemütlichen Beisammensein\, zum Spielen\, zum Kaffeetrinken\, und\, und\, und…
URL:https://tsv-bardowick.de/tsv-kalender/senioren-spielenachmittag-20/
LOCATION:TSV Bardowick Sportplatz\, Brietlinger Weg 1\, 21357 Bardowick\, Deutschland
CATEGORIES:Vereinsheim-Reservierungen
END:VEVENT
BEGIN:VEVENT
DTSTART;TZID=Europe/Berlin:20271229T140000
DTEND;TZID=Europe/Berlin:20271229T183000
DTSTAMP:20260424T014215
CREATED:20260326T185253Z
LAST-MODIFIED:20260423T224631Z
UID:1407-1830088800-1830105000@tsv-bardowick.de
SUMMARY:Senioren Spielenachmittag
DESCRIPTION:An jedem letzten Mittwoch eines Monats treffen sich die Senioren des TSV Bardowick zum gemütlichen Beisammensein\, zum Spielen\, zum Kaffeetrinken\, und\, und\, und…
URL:https://tsv-bardowick.de/tsv-kalender/senioren-spielenachmittag-21/
LOCATION:TSV Bardowick Sportplatz\, Brietlinger Weg 1\, 21357 Bardowick\, Deutschland
CATEGORIES:Vereinsheim-Reservierungen
END:VEVENT
BEGIN:VEVENT
DTSTART;TZID=Europe/Berlin:20280126T140000
DTEND;TZID=Europe/Berlin:20280126T183000
DTSTAMP:20260424T014215
CREATED:20260326T185253Z
LAST-MODIFIED:20260423T224631Z
UID:1408-1832508000-1832524200@tsv-bardowick.de
SUMMARY:Senioren Spielenachmittag
DESCRIPTION:An jedem letzten Mittwoch eines Monats treffen sich die Senioren des TSV Bardowick zum gemütlichen Beisammensein\, zum Spielen\, zum Kaffeetrinken\, und\, und\, und…
URL:https://tsv-bardowick.de/tsv-kalender/senioren-spielenachmittag-22/
LOCATION:TSV Bardowick Sportplatz\, Brietlinger Weg 1\, 21357 Bardowick\, Deutschland
CATEGORIES:Vereinsheim-Reservierungen
END:VEVENT
BEGIN:VEVENT
DTSTART;TZID=Europe/Berlin:20280223T140000
DTEND;TZID=Europe/Berlin:20280223T183000
DTSTAMP:20260424T014215
CREATED:20260326T185253Z
LAST-MODIFIED:20260423T224631Z
UID:1409-1834927200-1834943400@tsv-bardowick.de
SUMMARY:Senioren Spielenachmittag
DESCRIPTION:An jedem letzten Mittwoch eines Monats treffen sich die Senioren des TSV Bardowick zum gemütlichen Beisammensein\, zum Spielen\, zum Kaffeetrinken\, und\, und\, und…
URL:https://tsv-bardowick.de/tsv-kalender/senioren-spielenachmittag-23/
LOCATION:TSV Bardowick Sportplatz\, Brietlinger Weg 1\, 21357 Bardowick\, Deutschland
CATEGORIES:Vereinsheim-Reservierungen
END:VEVENT
BEGIN:VEVENT
DTSTART;TZID=Europe/Berlin:20280329T140000
DTEND;TZID=Europe/Berlin:20280329T183000
DTSTAMP:20260424T014215
CREATED:20260329T060938Z
LAST-MODIFIED:20260423T224631Z
UID:1542-1837951200-1837967400@tsv-bardowick.de
SUMMARY:Senioren Spielenachmittag
DESCRIPTION:An jedem letzten Mittwoch eines Monats treffen sich die Senioren des TSV Bardowick zum gemütlichen Beisammensein\, zum Spielen\, zum Kaffeetrinken\, und\, und\, und…
URL:https://tsv-bardowick.de/tsv-kalender/senioren-spielenachmittag-24/
LOCATION:TSV Bardowick Sportplatz\, Brietlinger Weg 1\, 21357 Bardowick\, Deutschland
CATEGORIES:Vereinsheim-Reservierungen
END:VEVENT
END:VCALENDAR