BEGIN:VCALENDAR
VERSION:2.0
PRODID:-//TSV Bardowick - ECPv6.15.17//NONSGML v1.0//EN
CALSCALE:GREGORIAN
METHOD:PUBLISH
X-WR-CALNAME:TSV Bardowick
X-ORIGINAL-URL:https://tsv-bardowick.de
X-WR-CALDESC:Veranstaltungen für TSV Bardowick
REFRESH-INTERVAL;VALUE=DURATION:PT1H
X-Robots-Tag:noindex
X-PUBLISHED-TTL:PT1H
BEGIN:VTIMEZONE
TZID:Europe/Berlin
BEGIN:DAYLIGHT
TZOFFSETFROM:+0100
TZOFFSETTO:+0200
TZNAME:CEST
DTSTART:20250330T010000
END:DAYLIGHT
BEGIN:STANDARD
TZOFFSETFROM:+0200
TZOFFSETTO:+0100
TZNAME:CET
DTSTART:20251026T010000
END:STANDARD
BEGIN:DAYLIGHT
TZOFFSETFROM:+0100
TZOFFSETTO:+0200
TZNAME:CEST
DTSTART:20260329T010000
END:DAYLIGHT
BEGIN:STANDARD
TZOFFSETFROM:+0200
TZOFFSETTO:+0100
TZNAME:CET
DTSTART:20261025T010000
END:STANDARD
BEGIN:DAYLIGHT
TZOFFSETFROM:+0100
TZOFFSETTO:+0200
TZNAME:CEST
DTSTART:20270328T010000
END:DAYLIGHT
BEGIN:STANDARD
TZOFFSETFROM:+0200
TZOFFSETTO:+0100
TZNAME:CET
DTSTART:20271031T010000
END:STANDARD
END:VTIMEZONE
BEGIN:VEVENT
DTSTART;TZID=Europe/Berlin:20260429T200000
DTEND;TZID=Europe/Berlin:20260501T130000
DTSTAMP:20260423T203523
CREATED:20260326T185249Z
LAST-MODIFIED:20260423T181602Z
UID:1360-1777492800-1777640400@tsv-bardowick.de
SUMMARY:Vereinsheim Enrico S.
DESCRIPTION:Reservierung über Homepage am 14.01.2026
URL:https://tsv-bardowick.de/tsv-kalender/1360/
CATEGORIES:Vereinsheim-Reservierungen
END:VEVENT
BEGIN:VEVENT
DTSTART;VALUE=DATE:20260509
DTEND;VALUE=DATE:20260510
DTSTAMP:20260423T203523
CREATED:20260326T185249Z
LAST-MODIFIED:20260423T181603Z
UID:1361-1778284800-1778371199@tsv-bardowick.de
SUMMARY:Dankeschön-Veranstaltung für alle Übungsleiter und Parkplatz-Einweihung
DESCRIPTION:
URL:https://tsv-bardowick.de/tsv-kalender/dankeschoen-veranstaltung-fuer-alle-uebungsleiter-und-parkplatz-einweihung/
CATEGORIES:Vereinsheim-Reservierungen
END:VEVENT
BEGIN:VEVENT
DTSTART;TZID=Europe/Berlin:20260509T163000
DTEND;TZID=Europe/Berlin:20260509T200000
DTSTAMP:20260423T203523
CREATED:20260226T152517Z
LAST-MODIFIED:20260226T172945Z
UID:263-1778344200-1778356800@tsv-bardowick.de
SUMMARY:Dankeschön-Veranstaltung
DESCRIPTION:Der Vorstand des TSV Bardowick möchte diesen feierlichen Rahmen nutzen\, um sich bei allen Spenderinnen und Spendern des Parkplatzprojekts aufrichtig für ihre wertvolle und großzügige Unterstützung zu bedanken. \nEin besonderer Dank gilt den Trainerinnen und Trainern des TSV Bardowick\, die durch ihre engagierte\, verantwortungsvolle und kontinuierliche Arbeit einen wesentlichen Beitrag zur Entwicklung unseres Vereins leisten. Dieses Engagement möchten wir im Rahmen dieser Veranstaltung ausdrücklich anerkennen und würdigen. \nSelbstverständlich sind auch deine Partnerin bzw. dein Partner zu dieser Veranstaltung herzlich eingeladen. Das gilt für alle eingeladenen Gäste.
URL:https://tsv-bardowick.de/tsv-kalender/dankeschoen-veranstaltung/
LOCATION:TSV Bardowick-Sportanlage\, Brietlinger Weg1\, Bardowick\, 21357\, Germany
CATEGORIES:Veranstaltungen-Hauptverein
ATTACH;FMTTYPE=image/jpeg:https://tsv-bardowick.de/wp-content/uploads/2026/02/100PTCAM_SING0108_20251105130948-scaled.jpg
ORGANIZER;CN="TSV Bardowick":MAILTO:kontakt@tsv-bardowick.de
END:VEVENT
BEGIN:VEVENT
DTSTART;TZID=Europe/Berlin:20260512T190000
DTEND;TZID=Europe/Berlin:20260512T230000
DTSTAMP:20260423T203523
CREATED:20260326T185249Z
LAST-MODIFIED:20260423T181603Z
UID:1362-1778612400-1778626800@tsv-bardowick.de
SUMMARY:Vereinsheim Reservierung TT-Abteilung
DESCRIPTION:Reserviert über Ute
URL:https://tsv-bardowick.de/tsv-kalender/vereinsheim-reservierung-tt-abteilung/
CATEGORIES:Vereinsheim-Reservierungen
END:VEVENT
BEGIN:VEVENT
DTSTART;TZID=Europe/Berlin:20260522T160000
DTEND;TZID=Europe/Berlin:20260524T130000
DTSTAMP:20260423T203523
CREATED:20260326T185249Z
LAST-MODIFIED:20260423T181603Z
UID:1363-1779465600-1779627600@tsv-bardowick.de
SUMMARY:Vereinsheim Ruben E.
DESCRIPTION:Anfrage über Homepage am 28.01.2026
URL:https://tsv-bardowick.de/tsv-kalender/vereinsheim-ruben-e/
CATEGORIES:Vereinsheim-Reservierungen
END:VEVENT
BEGIN:VEVENT
DTSTART;TZID=Europe/Berlin:20260527T140000
DTEND;TZID=Europe/Berlin:20260527T183000
DTSTAMP:20260423T203523
CREATED:20260326T185249Z
LAST-MODIFIED:20260423T181603Z
UID:1365-1779890400-1779906600@tsv-bardowick.de
SUMMARY:Senioren Spielenachmittag
DESCRIPTION:An jedem letzten Mittwoch eines Monats treffen sich die Senioren des TSV Bardowick zum gemütlichen Beisammensein\, zum Spielen\, zum Kaffeetrinken\, und\, und\, und…
URL:https://tsv-bardowick.de/tsv-kalender/senioren-spielenachmittag-2/
LOCATION:TSV Bardowick Sportplatz\, Brietlinger Weg 1\, 21357 Bardowick\, Deutschland
CATEGORIES:Vereinsheim-Reservierungen
END:VEVENT
BEGIN:VEVENT
DTSTART;TZID=Europe/Berlin:20260529T150000
DTEND;TZID=Europe/Berlin:20260531T130000
DTSTAMP:20260423T203523
CREATED:20260326T185249Z
LAST-MODIFIED:20260423T181603Z
UID:1366-1780066800-1780232400@tsv-bardowick.de
SUMMARY:Vereinsheim Anna R.
DESCRIPTION:Reservierung über die Homepage am 22.09.2025
URL:https://tsv-bardowick.de/tsv-kalender/vereinsheim-anna-r/
CATEGORIES:Vereinsheim-Reservierungen
END:VEVENT
END:VCALENDAR