BEGIN:VCALENDAR
VERSION:2.0
PRODID:-//TSV Bardowick - ECPv6.15.17//NONSGML v1.0//EN
CALSCALE:GREGORIAN
METHOD:PUBLISH
X-WR-CALNAME:TSV Bardowick
X-ORIGINAL-URL:https://tsv-bardowick.de
X-WR-CALDESC:Veranstaltungen für TSV Bardowick
REFRESH-INTERVAL;VALUE=DURATION:PT1H
X-Robots-Tag:noindex
X-PUBLISHED-TTL:PT1H
BEGIN:VTIMEZONE
TZID:Europe/Berlin
BEGIN:DAYLIGHT
TZOFFSETFROM:+0100
TZOFFSETTO:+0200
TZNAME:CEST
DTSTART:20250330T010000
END:DAYLIGHT
BEGIN:STANDARD
TZOFFSETFROM:+0200
TZOFFSETTO:+0100
TZNAME:CET
DTSTART:20251026T010000
END:STANDARD
BEGIN:DAYLIGHT
TZOFFSETFROM:+0100
TZOFFSETTO:+0200
TZNAME:CEST
DTSTART:20260329T010000
END:DAYLIGHT
BEGIN:STANDARD
TZOFFSETFROM:+0200
TZOFFSETTO:+0100
TZNAME:CET
DTSTART:20261025T010000
END:STANDARD
BEGIN:DAYLIGHT
TZOFFSETFROM:+0100
TZOFFSETTO:+0200
TZNAME:CEST
DTSTART:20270328T010000
END:DAYLIGHT
BEGIN:STANDARD
TZOFFSETFROM:+0200
TZOFFSETTO:+0100
TZNAME:CET
DTSTART:20271031T010000
END:STANDARD
END:VTIMEZONE
BEGIN:VEVENT
DTSTART;TZID=Europe/Berlin:20260605T160000
DTEND;TZID=Europe/Berlin:20260607T130000
DTSTAMP:20260423T215551
CREATED:20260326T185250Z
LAST-MODIFIED:20260423T191604Z
UID:1368-1780675200-1780837200@tsv-bardowick.de
SUMMARY:Vereinsheim 1.Herren (letzter Spieltag)
DESCRIPTION:
URL:https://tsv-bardowick.de/tsv-kalender/vereinsheim-1-herren-letzter-spieltag/
CATEGORIES:Vereinsheim-Reservierungen
END:VEVENT
BEGIN:VEVENT
DTSTART;TZID=Europe/Berlin:20260612T160000
DTEND;TZID=Europe/Berlin:20260614T160000
DTSTAMP:20260423T215551
CREATED:20260408T201441Z
LAST-MODIFIED:20260423T191604Z
UID:1817-1781280000-1781452800@tsv-bardowick.de
SUMMARY:Vereinsheim Melanie S.
DESCRIPTION:Anfrage über Homepage und anschließend per Mail (W. 1 Woche später)
URL:https://tsv-bardowick.de/tsv-kalender/vereinsheim-melanie-s/
CATEGORIES:Vereinsheim-Reservierungen
END:VEVENT
BEGIN:VEVENT
DTSTART;VALUE=DATE:20260613
DTEND;VALUE=DATE:20260614
DTSTAMP:20260423T215551
CREATED:20260326T185250Z
LAST-MODIFIED:20260407T153456Z
UID:1370-1781308800-1781395199@tsv-bardowick.de
SUMMARY:Vereinsheim Oksana S. (geblockt)
DESCRIPTION:
URL:https://tsv-bardowick.de/tsv-kalender/vereinsheim-oksana-s-geblockt/
CATEGORIES:Vereinsheim-Reservierungen
END:VEVENT
BEGIN:VEVENT
DTSTART;TZID=Europe/Berlin:20260619T180000
DTEND;TZID=Europe/Berlin:20260619T220000
DTSTAMP:20260423T215551
CREATED:20260326T185250Z
LAST-MODIFIED:20260423T191604Z
UID:1373-1781892000-1781906400@tsv-bardowick.de
SUMMARY:Mitgliederversammlung TSV Bardowick
DESCRIPTION:
URL:https://tsv-bardowick.de/tsv-kalender/mitgliederversammlung-tsv-bardowick/
CATEGORIES:Vereinsheim-Reservierungen
END:VEVENT
BEGIN:VEVENT
DTSTART;TZID=Europe/Berlin:20260619T193000
DTEND;TZID=Europe/Berlin:20260619T193000
DTSTAMP:20260423T215551
CREATED:20260226T173547Z
LAST-MODIFIED:20260303T153342Z
UID:283-1781897400-1781897400@tsv-bardowick.de
SUMMARY:Mitgliederversammlung 2026
DESCRIPTION:
URL:https://tsv-bardowick.de/tsv-kalender/mitgliederversammlung-2026/
LOCATION:TSV Bardowick-Sportanlage\, Brietlinger Weg1\, Bardowick\, 21357\, Germany
CATEGORIES:Veranstaltungen-Hauptverein
ATTACH;FMTTYPE=image/webp:https://tsv-bardowick.de/wp-content/uploads/2026/02/TSV-Mitgliederversammlung-2026.webp
ORGANIZER;CN="TSV Bardowick":MAILTO:kontakt@tsv-bardowick.de
END:VEVENT
BEGIN:VEVENT
DTSTART;TZID=Europe/Berlin:20260624T140000
DTEND;TZID=Europe/Berlin:20260624T183000
DTSTAMP:20260423T215551
CREATED:20260326T185250Z
LAST-MODIFIED:20260423T191604Z
UID:1375-1782309600-1782325800@tsv-bardowick.de
SUMMARY:Senioren Spielenachmittag
DESCRIPTION:An jedem letzten Mittwoch eines Monats treffen sich die Senioren des TSV Bardowick zum gemütlichen Beisammensein\, zum Spielen\, zum Kaffeetrinken\, und\, und\, und…
URL:https://tsv-bardowick.de/tsv-kalender/senioren-spielenachmittag-3/
LOCATION:TSV Bardowick Sportplatz\, Brietlinger Weg 1\, 21357 Bardowick\, Deutschland
CATEGORIES:Vereinsheim-Reservierungen
END:VEVENT
BEGIN:VEVENT
DTSTART;TZID=Europe/Berlin:20260626T080000
DTEND;TZID=Europe/Berlin:20260626T220000
DTSTAMP:20260423T215551
CREATED:20260326T185250Z
LAST-MODIFIED:20260423T191605Z
UID:1378-1782460800-1782511200@tsv-bardowick.de
SUMMARY:Vereinsheim Dennis G. w. Abschlussfeier Grundschule
DESCRIPTION:Anfrage über die Homepage am 24.09.2025
URL:https://tsv-bardowick.de/tsv-kalender/vereinsheim-dennis-g-w-abschlussfeier-grundschule/
CATEGORIES:Vereinsheim-Reservierungen
END:VEVENT
BEGIN:VEVENT
DTSTART;TZID=Europe/Berlin:20260627T130000
DTEND;TZID=Europe/Berlin:20260628T130000
DTSTAMP:20260423T215551
CREATED:20260326T185250Z
LAST-MODIFIED:20260423T191605Z
UID:1380-1782565200-1782651600@tsv-bardowick.de
SUMMARY:Vereinsheim Lukas G.
DESCRIPTION:Anfrage über Homepage und Telefon
URL:https://tsv-bardowick.de/tsv-kalender/vereinsheim-lukas-g/
CATEGORIES:Vereinsheim-Reservierungen
END:VEVENT
END:VCALENDAR