BEGIN:VCALENDAR
VERSION:2.0
PRODID:-//TSV Bardowick - ECPv6.15.17//NONSGML v1.0//EN
CALSCALE:GREGORIAN
METHOD:PUBLISH
X-ORIGINAL-URL:https://tsv-bardowick.de
X-WR-CALDESC:Veranstaltungen für TSV Bardowick
REFRESH-INTERVAL;VALUE=DURATION:PT1H
X-Robots-Tag:noindex
X-PUBLISHED-TTL:PT1H
BEGIN:VTIMEZONE
TZID:Europe/Berlin
BEGIN:DAYLIGHT
TZOFFSETFROM:+0100
TZOFFSETTO:+0200
TZNAME:CEST
DTSTART:20250330T010000
END:DAYLIGHT
BEGIN:STANDARD
TZOFFSETFROM:+0200
TZOFFSETTO:+0100
TZNAME:CET
DTSTART:20251026T010000
END:STANDARD
BEGIN:DAYLIGHT
TZOFFSETFROM:+0100
TZOFFSETTO:+0200
TZNAME:CEST
DTSTART:20260329T010000
END:DAYLIGHT
BEGIN:STANDARD
TZOFFSETFROM:+0200
TZOFFSETTO:+0100
TZNAME:CET
DTSTART:20261025T010000
END:STANDARD
BEGIN:DAYLIGHT
TZOFFSETFROM:+0100
TZOFFSETTO:+0200
TZNAME:CEST
DTSTART:20270328T010000
END:DAYLIGHT
BEGIN:STANDARD
TZOFFSETFROM:+0200
TZOFFSETTO:+0100
TZNAME:CET
DTSTART:20271031T010000
END:STANDARD
END:VTIMEZONE
BEGIN:VEVENT
DTSTART;TZID=Europe/Berlin:20260731T160000
DTEND;TZID=Europe/Berlin:20260802T130000
DTSTAMP:20260424T004538
CREATED:20260326T185251Z
LAST-MODIFIED:20260423T213304Z
UID:1386-1785513600-1785675600@tsv-bardowick.de
SUMMARY:Vereinsheim Ingrid H.
DESCRIPTION:Anfrage über Homepage am 02.08.2025
URL:https://tsv-bardowick.de/tsv-kalender/vereinsheim-ingrid-h/
CATEGORIES:Vereinsheim-Reservierungen
END:VEVENT
BEGIN:VEVENT
DTSTART;TZID=Europe/Berlin:20260821T160000
DTEND;TZID=Europe/Berlin:20260823T130000
DTSTAMP:20260424T004538
CREATED:20260326T185251Z
LAST-MODIFIED:20260423T213304Z
UID:1387-1787328000-1787490000@tsv-bardowick.de
SUMMARY:Vereinsheim Ralph L.
DESCRIPTION:Anfrage über Homepage am 30.11.2025
URL:https://tsv-bardowick.de/tsv-kalender/vereinsheim-ralph-l/
CATEGORIES:Vereinsheim-Reservierungen
END:VEVENT
BEGIN:VEVENT
DTSTART;TZID=Europe/Berlin:20260826T140000
DTEND;TZID=Europe/Berlin:20260826T183000
DTSTAMP:20260424T004538
CREATED:20260326T185251Z
LAST-MODIFIED:20260423T213304Z
UID:1388-1787752800-1787769000@tsv-bardowick.de
SUMMARY:Senioren Spielenachmittag
DESCRIPTION:An jedem letzten Mittwoch eines Monats treffen sich die Senioren des TSV Bardowick zum gemütlichen Beisammensein\, zum Spielen\, zum Kaffeetrinken\, und\, und\, und…
URL:https://tsv-bardowick.de/tsv-kalender/senioren-spielenachmittag-5/
LOCATION:TSV Bardowick Sportplatz\, Brietlinger Weg 1\, 21357 Bardowick\, Deutschland
CATEGORIES:Vereinsheim-Reservierungen
END:VEVENT
BEGIN:VEVENT
DTSTART;TZID=Europe/Berlin:20260827T100000
DTEND;TZID=Europe/Berlin:20260827T170000
DTSTAMP:20260424T004538
CREATED:20260415T141528Z
LAST-MODIFIED:20260423T213304Z
UID:1876-1787824800-1787850000@tsv-bardowick.de
SUMMARY:Vereinsheim/Jugendplatz Dennis B.
DESCRIPTION:Abstimmung über WhatsApp und Telefon mit Jürgen und Ute
URL:https://tsv-bardowick.de/tsv-kalender/vereinsheim-jugendplatz-dennis-b/
CATEGORIES:Vereinsheim-Reservierungen
END:VEVENT
BEGIN:VEVENT
DTSTART;TZID=Europe/Berlin:20260828T150000
DTEND;TZID=Europe/Berlin:20260830T130000
DTSTAMP:20260424T004538
CREATED:20260326T185251Z
LAST-MODIFIED:20260423T213305Z
UID:1389-1787929200-1788094800@tsv-bardowick.de
SUMMARY:Vereinsheim Maik S.
DESCRIPTION:Anfrage über Homepage am 18.10.2025
URL:https://tsv-bardowick.de/tsv-kalender/vereinsheim-maik-s/
CATEGORIES:Vereinsheim-Reservierungen
END:VEVENT
BEGIN:VEVENT
DTSTART;TZID=Europe/Berlin:20260829T130000
DTEND;TZID=Europe/Berlin:20260829T210000
DTSTAMP:20260424T004538
CREATED:20260326T185251Z
LAST-MODIFIED:20260423T213304Z
UID:1390-1788008400-1788037200@tsv-bardowick.de
SUMMARY:Grillplatz Schifferverein Dietmar W.
DESCRIPTION:
URL:https://tsv-bardowick.de/tsv-kalender/grillplatz-schifferverein-dietmar-w/
CATEGORIES:Vereinsheim-Reservierungen
END:VEVENT
END:VCALENDAR